BEGIN:VCALENDAR
VERSION:2.0
PRODID:GlueUp
CALSCALE:GREGORIAN
BEGIN:VTIMEZONE
TZID:UTC
BEGIN:STANDARD
DTSTART:19700101T000000
TZOFFSETFROM:+0000
TZOFFSETTO:+0000
TZNAME:UTC
END:STANDARD
END:VTIMEZONE
BEGIN:VEVENT
TZ:+00
ORGANIZER;CN=Lucinda Liu:MAILTO:lliu@amchamchina.org
UID:42005-1776734340@https://amcham.glueup.cn
DTSTAMP:20260421T011900Z
DTSTART:20231027T003000Z
DTEND:20231027T040000Z
SUMMARY:绿电绿证及国际互认研讨会
DESCRIPTION:AmCham China发布活动绿电绿证及国际互认研讨会\n\n2023年10月27日（上午 8:30 - 中午 12:00）(GMT+8)\n\n更多信息，访问https://amcham.glueup.cn/my/events/42005
LOCATION:WeWork（三里屯盈科中心） - 中国北京市朝阳区工体北路甲2号，盈科中心5号门5层WeWork
BEGIN:VALARM
TRIGGER:-PT48H
REPEAT:4
DURATION:PT30M
ACTION:DISPLAY
END:VALARM
END:VEVENT
END:VCALENDAR