BEGIN:VCALENDAR
VERSION:2.0
PRODID:GlueUp
CALSCALE:GREGORIAN
BEGIN:VTIMEZONE
TZID:UTC
BEGIN:STANDARD
DTSTART:19700101T000000
TZOFFSETFROM:+0000
TZOFFSETTO:+0000
TZNAME:UTC
END:STANDARD
END:VTIMEZONE
BEGIN:VEVENT
TZ:+00
ORGANIZER;CN=Lucinda Liu:MAILTO:lliu@amchamchina.org
UID:45890-1776612744@https://amcham.glueup.cn
DTSTAMP:20260419T153224Z
DTSTART:20250406T160001Z
DTEND:20250408T160001Z
SUMMARY:[Jiangsu, CN] Jiangsu Energy Transition and Innovation Outreach
DESCRIPTION:[Jiangsu, CN] Jiangsu Energy Transition and Innovation Outreach by AmCham China\n\nApr 7 - 9, 2025(GMT+8)\n\nFor more information, click here: https://amcham.glueup.cn/my/events/45890
LOCATION: - Lianyungang - Jiangsu - China
BEGIN:VALARM
TRIGGER:-PT48H
REPEAT:4
DURATION:PT30M
ACTION:DISPLAY
END:VALARM
END:VEVENT
END:VCALENDAR