BEGIN:VCALENDAR
VERSION:2.0
PRODID:GlueUp
CALSCALE:GREGORIAN
BEGIN:VTIMEZONE
TZID:UTC
BEGIN:STANDARD
DTSTART:19700101T000000
TZOFFSETFROM:+0000
TZOFFSETTO:+0000
TZNAME:UTC
END:STANDARD
END:VTIMEZONE
BEGIN:VEVENT
TZ:+00
ORGANIZER;CN=AmCham China:MAILTO:amcham@amchamchina.org
UID:42396-1776721272@https://amcham.glueup.cn
DTSTAMP:20260420T214112Z
DTSTART:20231209T073000Z
DTEND:20231209T124500Z
SUMMARY:探索世界：国家地理经典影像大展专场讲解
DESCRIPTION:AmCham China发布活动探索世界：国家地理经典影像大展专场讲解\n\n2023年12月09日（下午 3:30 - 晚上 8:45）(GMT+8)\n\n更多信息，访问https://amcham.glueup.cn/my/events/42396
LOCATION:华贸中心北区商业20号楼2层 - Beijing
BEGIN:VALARM
TRIGGER:-PT48H
REPEAT:4
DURATION:PT30M
ACTION:DISPLAY
END:VALARM
END:VEVENT
END:VCALENDAR