BEGIN:VCALENDAR
VERSION:2.0
PRODID:GlueUp
CALSCALE:GREGORIAN
BEGIN:VTIMEZONE
TZID:UTC
BEGIN:STANDARD
DTSTART:19700101T000000
TZOFFSETFROM:+0000
TZOFFSETTO:+0000
TZNAME:UTC
END:STANDARD
END:VTIMEZONE
BEGIN:VEVENT
TZ:+00
ORGANIZER;CN=Lina Wang:MAILTO:lwang@amchamchina.org
UID:42499-1776721836@https://amcham.glueup.cn
DTSTAMP:20260420T215036Z
DTSTART:20231228T060000Z
DTEND:20231228T080000Z
SUMMARY:（延期）武汉 | 线下研讨会（中文）| 内控优化合规及汇算清缴及研发费用加计扣除专题分享
DESCRIPTION:AmCham China发布活动（延期）武汉 | 线下研讨会（中文）| 内控优化合规及汇算清缴及研发费用加计扣除专题分享\n\n2023年12月28日（下午 2:00 - 下午 4:00）(GMT+8)\n\n更多信息，访问https://amcham.glueup.cn/my/events/42499
LOCATION:武汉恒隆广场写字楼33楼 - 中国湖北武汉硚口区解放大道696号
BEGIN:VALARM
TRIGGER:-PT48H
REPEAT:4
DURATION:PT30M
ACTION:DISPLAY
END:VALARM
END:VEVENT
END:VCALENDAR