BEGIN:VCALENDAR
VERSION:2.0
PRODID:GlueUp
CALSCALE:GREGORIAN
BEGIN:VTIMEZONE
TZID:UTC
BEGIN:STANDARD
DTSTART:19700101T000000
TZOFFSETFROM:+0000
TZOFFSETTO:+0000
TZNAME:UTC
END:STANDARD
END:VTIMEZONE
BEGIN:VEVENT
TZ:+00
ORGANIZER;CN=Linda Cheng:MAILTO:lcheng@amchamchina.org
UID:42271-1776721209@https://amcham.glueup.cn
DTSTAMP:20260420T214009Z
DTSTART:20231201T053000Z
DTEND:20231201T083000Z
SUMMARY:天津（中文） | 爱你士化妆用具公司参观 & 职场形象塑造工作坊
DESCRIPTION:天津（中文） | 爱你士化妆用具公司参观 & 职场形象塑造工作坊 by AmCham China\n\nDec 1, 2023 (1:30 PM - 4:30 PM)(GMT+8)\n\nFor more information, click here: https://amcham.glueup.cn/my/events/42271
LOCATION:Anisa Cosmetic Applicators (Tianjin) Co., Ltd. - No. 7 Jingcheng Road - Xiqing District - Tianjin
BEGIN:VALARM
TRIGGER:-PT48H
REPEAT:4
DURATION:PT30M
ACTION:DISPLAY
END:VALARM
END:VEVENT
END:VCALENDAR