BEGIN:VCALENDAR
VERSION:2.0
PRODID:GlueUp
CALSCALE:GREGORIAN
BEGIN:VTIMEZONE
TZID:UTC
BEGIN:STANDARD
DTSTART:19700101T000000
TZOFFSETFROM:+0000
TZOFFSETTO:+0000
TZNAME:UTC
END:STANDARD
END:VTIMEZONE
BEGIN:VEVENT
TZ:+00
ORGANIZER;CN=Dandan Li:MAILTO:dli@amchamchina.org
UID:44956-1776667202@https://amcham.glueup.cn
DTSTAMP:20260420T064002Z
DTSTART:20240830T073000Z
DTEND:20240830T090000Z
SUMMARY:国家地理分享活动：对话知名摄影师John Stanmeyer
DESCRIPTION:国家地理分享活动：对话知名摄影师John Stanmeyer by 中国美国商会\n\nAug 30, 2024 (15:30 - 17:00)(GMT+8)\n\nFor more information, click here: https://amcham.glueup.cn/my/events/44956
LOCATION:昆泰大厦8F - 朝阳门外大街10号蓝岛大厦旁 Beijing - Chaoyang District - China
BEGIN:VALARM
TRIGGER:-PT48H
REPEAT:4
DURATION:PT30M
ACTION:DISPLAY
END:VALARM
END:VEVENT
END:VCALENDAR