BEGIN:VCALENDAR
VERSION:2.0
PRODID:GlueUp
CALSCALE:GREGORIAN
BEGIN:VTIMEZONE
TZID:UTC
BEGIN:STANDARD
DTSTART:19700101T000000
TZOFFSETFROM:+0000
TZOFFSETTO:+0000
TZNAME:UTC
END:STANDARD
END:VTIMEZONE
BEGIN:VEVENT
TZ:+00
ORGANIZER;CN=Lucinda Liu:MAILTO:lliu@amchamchina.org
UID:47220-1776605916@https://amcham.glueup.cn
DTSTAMP:20260419T133836Z
DTSTART:20250528T003000Z
DTEND:20250529T093000Z
SUMMARY:[Beijing, CN&EN] The 3rd International CCUS Conference 2025
DESCRIPTION:[Beijing, CN&EN] The 3rd International CCUS Conference 2025 by AmCham China\n\nMay 28 & 29, 2025(GMT+8)\n\nFor more information, click here: https://amcham.glueup.cn/my/events/47220
LOCATION:CNPC Sci-Tech Exchange Center - CNPC Sci-Tech Exchange Center Beijing - China
BEGIN:VALARM
TRIGGER:-PT48H
REPEAT:4
DURATION:PT30M
ACTION:DISPLAY
END:VALARM
END:VEVENT
END:VCALENDAR