BEGIN:VCALENDAR
VERSION:2.0
PRODID:GlueUp
CALSCALE:GREGORIAN
BEGIN:VTIMEZONE
TZID:UTC
BEGIN:STANDARD
DTSTART:19700101T000000
TZOFFSETFROM:+0000
TZOFFSETTO:+0000
TZNAME:UTC
END:STANDARD
END:VTIMEZONE
BEGIN:VEVENT
TZ:+00
ORGANIZER;CN=Lucinda Liu:MAILTO:lliu@amchamchina.org
UID:45695-1776646799@https://amcham.glueup.cn
DTSTAMP:20260420T005959Z
DTSTART:20241206T160001Z
DTEND:20241207T160001Z
SUMMARY:[Beijing, CN] The 3rd China CCUS Tech Conference
DESCRIPTION:[Beijing, CN] The 3rd China CCUS Tech Conference by AmCham China\n\nDec 7 & 8, 2024(GMT+8)\n\nFor more information, click here: https://amcham.glueup.cn/my/events/45695
LOCATION:Management School of the CHN Energy, Future Science City, Changping District, Beijing - Beijing - China
BEGIN:VALARM
TRIGGER:-PT48H
REPEAT:4
DURATION:PT30M
ACTION:DISPLAY
END:VALARM
END:VEVENT
END:VCALENDAR