BEGIN:VCALENDAR
VERSION:2.0
PRODID:GlueUp
CALSCALE:GREGORIAN
BEGIN:VTIMEZONE
TZID:UTC
BEGIN:STANDARD
DTSTART:19700101T000000
TZOFFSETFROM:+0000
TZOFFSETTO:+0000
TZNAME:UTC
END:STANDARD
END:VTIMEZONE
BEGIN:VEVENT
TZ:+00
ORGANIZER;CN=AmCham China:MAILTO:amcham@amchamchina.org
UID:42469-1776728016@https://amcham.glueup.cn
DTSTAMP:20260420T233336Z
DTSTART:20231218T083000Z
DTEND:20231218T120000Z
SUMMARY:化妆品工作组年末行业交流会
DESCRIPTION:化妆品工作组年末行业交流会 by AmCham China\n\nDec 18, 2023 (4:30 PM - 8:00 PM)(GMT+8)\n\nFor more information, click here: https://amcham.glueup.cn/my/events/42469
LOCATION:亦 · Garden空中花园餐厅 - 荣华中路22号院亦城财富中心b座底商106 Beijing - Chaoyang District - China
BEGIN:VALARM
TRIGGER:-PT48H
REPEAT:4
DURATION:PT30M
ACTION:DISPLAY
END:VALARM
END:VEVENT
END:VCALENDAR