BEGIN:VCALENDAR
VERSION:2.0
PRODID:GlueUp
CALSCALE:GREGORIAN
BEGIN:VTIMEZONE
TZID:UTC
BEGIN:STANDARD
DTSTART:19700101T000000
TZOFFSETFROM:+0000
TZOFFSETTO:+0000
TZNAME:UTC
END:STANDARD
END:VTIMEZONE
BEGIN:VEVENT
TZ:+00
ORGANIZER;CN=Lina Wang:MAILTO:lwang@amchamchina.org
UID:29646-1776948520@https://amcham.glueup.cn
DTSTAMP:20260423T124840Z
DTSTART:20201218T053000Z
DTEND:20201218T083000Z
SUMMARY:会员企业行 | 新思科技武汉全球研发中心
DESCRIPTION:AmCham China发布活动会员企业行 | 新思科技武汉全球研发中心\n\n2020年12月18日（下午 1:30 - 下午 4:30）(GMT+8)\n\n更多信息，访问https://amcham.glueup.cn/my/events/29646
LOCATION:新思科技武汉全球研发中心 - 湖北武汉东湖新技术开发区高新大道999号武汉未来科技城龙山南街6号展想新思中心2号楼
BEGIN:VALARM
TRIGGER:-PT48H
REPEAT:4
DURATION:PT30M
ACTION:DISPLAY
END:VALARM
END:VEVENT
END:VCALENDAR