BEGIN:VCALENDAR
VERSION:2.0
PRODID:GlueUp
CALSCALE:GREGORIAN
BEGIN:VTIMEZONE
TZID:UTC
BEGIN:STANDARD
DTSTART:19700101T000000
TZOFFSETFROM:+0000
TZOFFSETTO:+0000
TZNAME:UTC
END:STANDARD
END:VTIMEZONE
BEGIN:VEVENT
TZ:+00
ORGANIZER;CN=Lina Wang:MAILTO:lwang@amchamchina.org
UID:42691-1776708791@https://amcham.glueup.cn
DTSTAMP:20260420T181311Z
DTSTART:20240211T230000Z
DTEND:20240212T030000Z
SUMMARY:Wuhan| Super Bowl LVIII Live Watch Party
DESCRIPTION:Wuhan| Super Bowl LVIII Live Watch Party by AmCham China\n\nFeb 12, 2024 (7:00 AM - 11:00 AM)(GMT+8)\n\nFor more information, click here: https://amcham.glueup.cn/my/events/42691
LOCATION:Wuhan - China
BEGIN:VALARM
TRIGGER:-PT48H
REPEAT:4
DURATION:PT30M
ACTION:DISPLAY
END:VALARM
END:VEVENT
END:VCALENDAR