BEGIN:VCALENDAR
VERSION:2.0
PRODID:GlueUp
CALSCALE:GREGORIAN
BEGIN:VTIMEZONE
TZID:UTC
BEGIN:STANDARD
DTSTART:19700101T000000
TZOFFSETFROM:+0000
TZOFFSETTO:+0000
TZNAME:UTC
END:STANDARD
END:VTIMEZONE
BEGIN:VEVENT
TZ:+00
ORGANIZER;CN=Lina Wang:MAILTO:lwang@amchamchina.org
UID:46796-1776612673@https://amcham.glueup.cn
DTSTAMP:20260419T153113Z
DTSTART:20250418T103000Z
DTEND:20250418T130000Z
SUMMARY:[Wuhan] Spring Inter-Chamber Bowling Mixer
DESCRIPTION:[Wuhan] Spring Inter-Chamber Bowling Mixer by AmCham China\n\nApr 18, 2025 (6:30 PM - 9:00 PM)(GMT+8)\n\nFor more information, click here: https://amcham.glueup.cn/my/events/46796
LOCATION:Kangba Bowling Alley - 6th Floor - Wanda Plaza - No199 - Yunshan Road Wuhan - Hubei - China
BEGIN:VALARM
TRIGGER:-PT48H
REPEAT:4
DURATION:PT30M
ACTION:DISPLAY
END:VALARM
END:VEVENT
END:VCALENDAR