BEGIN:VCALENDAR
VERSION:2.0
PRODID:GlueUp
CALSCALE:GREGORIAN
BEGIN:VTIMEZONE
TZID:UTC
BEGIN:STANDARD
DTSTART:19700101T000000
TZOFFSETFROM:+0000
TZOFFSETTO:+0000
TZNAME:UTC
END:STANDARD
END:VTIMEZONE
BEGIN:VEVENT
TZ:+00
ORGANIZER;CN=Lina Wang:MAILTO:lwang@amchamchina.org
UID:44599-1776678584@https://amcham.glueup.cn
DTSTAMP:20260420T094944Z
DTSTART:20240727T100000Z
DTEND:20240727T130000Z
SUMMARY:[Wuhan] Sip & Savor: Summer White Wine Tasting
DESCRIPTION:[Wuhan] Sip & Savor: Summer White Wine Tasting by AmCham China\n\nJul 27, 2024 (6:00 PM - 9:00 PM)(GMT+8)\n\nFor more information, click here: https://amcham.glueup.cn/my/events/44599
LOCATION:Chateau Begonia - No. 72 - Checheng West Road - Wuhan Economic and Technological Development Zone - Wuhan Wuhan - Hubei - China
BEGIN:VALARM
TRIGGER:-PT48H
REPEAT:4
DURATION:PT30M
ACTION:DISPLAY
END:VALARM
END:VEVENT
END:VCALENDAR