BEGIN:VCALENDAR
VERSION:2.0
PRODID:GlueUp
CALSCALE:GREGORIAN
BEGIN:VTIMEZONE
TZID:UTC
BEGIN:STANDARD
DTSTART:19700101T000000
TZOFFSETFROM:+0000
TZOFFSETTO:+0000
TZNAME:UTC
END:STANDARD
END:VTIMEZONE
BEGIN:VEVENT
TZ:+00
ORGANIZER;CN=Lina Wang:MAILTO:lwang@amchamchina.org
UID:45600-1776640918@https://amcham.glueup.cn
DTSTAMP:20260419T232158Z
DTSTART:20241213T023000Z
DTEND:20241213T043000Z
SUMMARY:[Wuhan, Hybrid, EN] Central China Chapter 2025 White Paper Kick-Off Meeting
DESCRIPTION:[Wuhan, Hybrid, EN] Central China Chapter 2025 White Paper Kick-Off Meeting by AmCham China\n\nDec 13, 2024 (10:30 AM - 12:30 PM)(GMT+8)\n\nFor more information, click here: https://amcham.glueup.cn/my/events/45600
LOCATION:Tiandi Tower A1 - 15th Floor - Tiandi Tower A1 - No. 1505 Zhongshan Road - Jiang'an District Wuhan - Hubei - China
BEGIN:VALARM
TRIGGER:-PT48H
REPEAT:4
DURATION:PT30M
ACTION:DISPLAY
END:VALARM
END:VEVENT
END:VCALENDAR