BEGIN:VCALENDAR
VERSION:2.0
PRODID:GlueUp
CALSCALE:GREGORIAN
BEGIN:VTIMEZONE
TZID:UTC
BEGIN:STANDARD
DTSTART:19700101T000000
TZOFFSETFROM:+0000
TZOFFSETTO:+0000
TZNAME:UTC
END:STANDARD
END:VTIMEZONE
BEGIN:VEVENT
TZ:+00
ORGANIZER;CN=Lina Wang:MAILTO:lwang@amchamchina.org
UID:43946-1776689436@https://amcham.glueup.cn
DTSTAMP:20260420T125036Z
DTSTART:20240526T014500Z
DTEND:20240526T040000Z
SUMMARY:【武汉，英文】汉口历史文化建筑漫步游
DESCRIPTION:中国美国商会发布活动【武汉，英文】汉口历史文化建筑漫步游\n\n2024年05月26日（09:45 - 12:00）(GMT+8)\n\n更多信息，访问https://amcham.glueup.cn/my/events/43946
LOCATION:江汉关博物馆 - 中国湖北武汉江汉区沿江大道129号
BEGIN:VALARM
TRIGGER:-PT48H
REPEAT:4
DURATION:PT30M
ACTION:DISPLAY
END:VALARM
END:VEVENT
END:VCALENDAR