BEGIN:VCALENDAR
VERSION:2.0
PRODID:GlueUp
CALSCALE:GREGORIAN
BEGIN:VTIMEZONE
TZID:UTC
BEGIN:STANDARD
DTSTART:19700101T000000
TZOFFSETFROM:+0000
TZOFFSETTO:+0000
TZNAME:UTC
END:STANDARD
END:VTIMEZONE
BEGIN:VEVENT
TZ:+00
ORGANIZER;CN=Cinry Liu:MAILTO:cinry.liu@amchamchina.org
UID:49985-1776955384@https://amcham.glueup.cn
DTSTAMP:20260423T144304Z
DTSTART:20260515T103000Z
DTEND:20260515T130000Z
SUMMARY:[Wuhan, EN&CN] Spring Inter-Chamber Bowling Mixer
DESCRIPTION:[Wuhan, EN&CN] Spring Inter-Chamber Bowling Mixer by AmCham China\n\nMay 15, 2026 (6:30 PM - 9:00 PM)(GMT+8)\n\nFor more information, click here: https://amcham.glueup.cn/my/events/49985
LOCATION:Kangba Bowling Alley - 6th Floor - Wanda Plaza - No199 - Yunshan Road Wuhan - Hubei - China
BEGIN:VALARM
TRIGGER:-PT48H
REPEAT:4
DURATION:PT30M
ACTION:DISPLAY
END:VALARM
END:VEVENT
END:VCALENDAR