BEGIN:VCALENDAR
VERSION:2.0
PRODID:GlueUp
CALSCALE:GREGORIAN
BEGIN:VTIMEZONE
TZID:UTC
BEGIN:STANDARD
DTSTART:19700101T000000
TZOFFSETFROM:+0000
TZOFFSETTO:+0000
TZNAME:UTC
END:STANDARD
END:VTIMEZONE
BEGIN:VEVENT
TZ:+00
ORGANIZER;CN=Lina Wang:MAILTO:lwang@amchamchina.org
UID:46430-1776619379@https://amcham.glueup.cn
DTSTAMP:20260419T172259Z
DTSTART:20250319T074500Z
DTEND:20250319T093000Z
SUMMARY:[Wuhan, EN] 2025 China Business Climate Survey Report Central China Launch
DESCRIPTION:[Wuhan, EN] 2025 China Business Climate Survey Report Central China Launch by 中国美国商会\n\nMar 19, 2025 (15:45 - 17:30)(GMT+8)\n\nFor more information, click here: https://amcham.glueup.cn/my/events/46430
LOCATION:Tiandi Tower A1 企业天地1号 - 15th Floor - Tiandi Tower A1 - No. 1505 Zhongshan Avenue - Jiang'an District - 江岸区中山大道1505号企业天地1号15层 Wuhan - Hubei - China
BEGIN:VALARM
TRIGGER:-PT48H
REPEAT:4
DURATION:PT30M
ACTION:DISPLAY
END:VALARM
END:VEVENT
END:VCALENDAR