BEGIN:VCALENDAR
VERSION:2.0
PRODID:GlueUp
CALSCALE:GREGORIAN
BEGIN:VTIMEZONE
TZID:UTC
BEGIN:STANDARD
DTSTART:19700101T000000
TZOFFSETFROM:+0000
TZOFFSETTO:+0000
TZNAME:UTC
END:STANDARD
END:VTIMEZONE
BEGIN:VEVENT
TZ:+00
ORGANIZER;CN=Lina Wang:MAILTO:lwang@amchamchina.org
UID:43566-1776702571@https://amcham.glueup.cn
DTSTAMP:20260420T162931Z
DTSTART:20240419T053000Z
DTEND:20240419T083000Z
SUMMARY:[Wuhan, CH] Workshop: Upward Communication through Storytelling
DESCRIPTION:[Wuhan, CH] Workshop: Upward Communication through Storytelling by AmCham China\n\nApr 19, 2024 (1:30 PM - 4:30 PM)(GMT+8)\n\nFor more information, click here: https://amcham.glueup.cn/my/events/43566
LOCATION:企业天地1号 - 武汉市江岸区中山大道1505号企业天地1号15层15A 武汉 - 湖北 - China
BEGIN:VALARM
TRIGGER:-PT48H
REPEAT:4
DURATION:PT30M
ACTION:DISPLAY
END:VALARM
END:VEVENT
END:VCALENDAR