BEGIN:VCALENDAR
VERSION:2.0
PRODID:GlueUp
CALSCALE:GREGORIAN
BEGIN:VTIMEZONE
TZID:UTC
BEGIN:STANDARD
DTSTART:19700101T000000
TZOFFSETFROM:+0000
TZOFFSETTO:+0000
TZNAME:UTC
END:STANDARD
END:VTIMEZONE
BEGIN:VEVENT
TZ:+00
ORGANIZER;CN=Lina Wang:MAILTO:lwang@amchamchina.org
UID:45939-1776646725@https://amcham.glueup.cn
DTSTAMP:20260420T005845Z
DTSTART:20241231T140000Z
DTEND:20241230T160000Z
SUMMARY:[Wuhan] 2025 New Year Countdown Party
DESCRIPTION:[Wuhan] 2025 New Year Countdown Party by AmCham China\n\nDec 31, 2024 (10:00 PM - 12:00 AM)(GMT+8)\n\nFor more information, click here: https://amcham.glueup.cn/my/events/45939
LOCATION:New World Wuhan Hotel - No. 630 Jiefang Road - Qiaokou District - Wuhan - Hubei Province Wuhan - Hubei - China
BEGIN:VALARM
TRIGGER:-PT48H
REPEAT:4
DURATION:PT30M
ACTION:DISPLAY
END:VALARM
END:VEVENT
END:VCALENDAR