BEGIN:VCALENDAR
VERSION:2.0
PRODID:GlueUp
CALSCALE:GREGORIAN
BEGIN:VTIMEZONE
TZID:UTC
BEGIN:STANDARD
DTSTART:19700101T000000
TZOFFSETFROM:+0000
TZOFFSETTO:+0000
TZNAME:UTC
END:STANDARD
END:VTIMEZONE
BEGIN:VEVENT
TZ:+00
ORGANIZER;CN=Lina Wang:MAILTO:lwang@amchamchina.org
UID:44798-1776697306@https://amcham.glueup.cn
DTSTAMP:20260420T150146Z
DTSTART:20240822T100000Z
DTEND:20240822T123000Z
SUMMARY:[Wuhan] 2024 Inter-Chamber Summer Networking
DESCRIPTION:[Wuhan] 2024 Inter-Chamber Summer Networking by AmCham China\n\nAug 22, 2024 (6:00 PM - 8:30 PM)(GMT+8)\n\nFor more information, click here: https://amcham.glueup.cn/my/events/44798
LOCATION:Chengtou, Wuhan Yin - No. 401 - Youyi Road - WuChang District Wuhan - Hubei - China
BEGIN:VALARM
TRIGGER:-PT48H
REPEAT:4
DURATION:PT30M
ACTION:DISPLAY
END:VALARM
END:VEVENT
END:VCALENDAR