BEGIN:VCALENDAR
VERSION:2.0
PRODID:GlueUp
CALSCALE:GREGORIAN
BEGIN:VTIMEZONE
TZID:UTC
BEGIN:STANDARD
DTSTART:19700101T000000
TZOFFSETFROM:+0000
TZOFFSETTO:+0000
TZNAME:UTC
END:STANDARD
END:VTIMEZONE
BEGIN:VEVENT
TZ:+00
ORGANIZER;CN=Lina Wang:MAILTO:lwang@amchamchina.org
UID:41949-1776734558@https://amcham.glueup.cn
DTSTAMP:20260421T012238Z
DTSTART:20231118T070000Z
DTEND:20231118T110000Z
SUMMARY:Wuhan | 2023 Thanksgiving Potluck-Annual Family Gathering
DESCRIPTION:Wuhan | 2023 Thanksgiving Potluck-Annual Family Gathering by AmCham China\n\nNov 18, 2023 (3:00 PM - 7:00 PM)(GMT+8)\n\nFor more information, click here: https://amcham.glueup.cn/my/events/41949
LOCATION:Aloha Restaurant - No. 56,Dongfeng Road - Caidian District Wuhan - Hubei - China
BEGIN:VALARM
TRIGGER:-PT48H
REPEAT:4
DURATION:PT30M
ACTION:DISPLAY
END:VALARM
END:VEVENT
END:VCALENDAR