BEGIN:VCALENDAR
VERSION:2.0
PRODID:GlueUp
CALSCALE:GREGORIAN
BEGIN:VTIMEZONE
TZID:UTC
BEGIN:STANDARD
DTSTART:19700101T000000
TZOFFSETFROM:+0000
TZOFFSETTO:+0000
TZNAME:UTC
END:STANDARD
END:VTIMEZONE
BEGIN:VEVENT
TZ:+00
ORGANIZER;CN=Lina Wang:MAILTO:lwang@amchamchina.org
UID:41848-1776733931@https://amcham.glueup.cn
DTSTAMP:20260421T011211Z
DTSTART:20231027T110000Z
DTEND:20231027T133000Z
SUMMARY:Wuhan | 2023 Halloween Bowling Night
DESCRIPTION:Wuhan | 2023 Halloween Bowling Night by AmCham China\n\nOct 27, 2023 (7:00 PM - 9:30 PM)(GMT+8)\n\nFor more information, click here: https://amcham.glueup.cn/my/events/41848
LOCATION:Kangba Bowling Alley - 6th Floor - Wanda Plaza - No199 - Yunshan Road Wuhan - Hubei - China
BEGIN:VALARM
TRIGGER:-PT48H
REPEAT:4
DURATION:PT30M
ACTION:DISPLAY
END:VALARM
END:VEVENT
END:VCALENDAR