BEGIN:VCALENDAR
VERSION:2.0
PRODID:GlueUp
CALSCALE:GREGORIAN
BEGIN:VTIMEZONE
TZID:UTC
BEGIN:STANDARD
DTSTART:19700101T000000
TZOFFSETFROM:+0000
TZOFFSETTO:+0000
TZNAME:UTC
END:STANDARD
END:VTIMEZONE
BEGIN:VEVENT
TZ:+00
ORGANIZER;CN=Mark Dreyer:MAILTO:mdreyer@amchamchina.org
UID:43711-1776689902@https://amcham.glueup.cn
DTSTAMP:20260420T125822Z
DTSTART:20240510T210000Z
DTEND:20240510T230000Z
SUMMARY:Washington DC Alumni Cocktail Mixer
DESCRIPTION:Washington DC Alumni Cocktail Mixer by AmCham China\n\nMay 10, 2024 (5:00 PM - 7:00 PM)(GMT-4)\n\nFor more information, click here: https://amcham.glueup.cn/my/events/43711
LOCATION:Crowell and Moring (CMI) - 1001 Pennsylvania Avenue NW - Washington - DC 20004 - USA - Washington D.C. - District of Columbia -  United States
BEGIN:VALARM
TRIGGER:-PT48H
REPEAT:4
DURATION:PT30M
ACTION:DISPLAY
END:VALARM
END:VEVENT
END:VCALENDAR