BEGIN:VCALENDAR
VERSION:2.0
PRODID:GlueUp
CALSCALE:GREGORIAN
BEGIN:VTIMEZONE
TZID:UTC
BEGIN:STANDARD
DTSTART:19700101T000000
TZOFFSETFROM:+0000
TZOFFSETTO:+0000
TZNAME:UTC
END:STANDARD
END:VTIMEZONE
BEGIN:VEVENT
TZ:+00
ORGANIZER;CN=Mark Dreyer:MAILTO:mdreyer@amchamchina.org
UID:47175-1776959434@https://amcham.glueup.cn
DTSTAMP:20260423T155034Z
DTSTART:20250512T040001Z
DTEND:20250514T040001Z
SUMMARY:[Washington DC] 15th China Business Conference
DESCRIPTION:[Washington DC] 15th China Business Conference by AmCham China\n\nMay 12 - 14, 2025(GMT-4)\n\nFor more information, click here: https://amcham.glueup.cn/my/events/47175
LOCATION:
BEGIN:VALARM
TRIGGER:-PT48H
REPEAT:4
DURATION:PT30M
ACTION:DISPLAY
END:VALARM
END:VEVENT
END:VCALENDAR