BEGIN:VCALENDAR
VERSION:2.0
PRODID:GlueUp
CALSCALE:GREGORIAN
BEGIN:VTIMEZONE
TZID:UTC
BEGIN:STANDARD
DTSTART:19700101T000000
TZOFFSETFROM:+0000
TZOFFSETTO:+0000
TZNAME:UTC
END:STANDARD
END:VTIMEZONE
BEGIN:VEVENT
TZ:+00
ORGANIZER;CN=Elliott Johnson:MAILTO:ejohnson@amchamchina.org
UID:43179-1776702473@https://amcham.glueup.cn
DTSTAMP:20260420T162753Z
DTSTART:20240321T013000Z
DTEND:20240321T030000Z
SUMMARY:Two Sessions Readout by Trivium
DESCRIPTION:Two Sessions Readout by Trivium by AmCham China\n\nMar 21, 2024 (9:30 AM - 11:00 AM)(GMT+8)\n\nFor more information, click here: https://amcham.glueup.cn/my/events/43179
LOCATION:Hilton Hotel Beijing - Signature Ballroom A 里程宫A - Hilton Hotel Beijing 北京希尔顿酒店 - No. 1 Dong Fang Road - North Dong Sanhuan Road 北京市朝阳区东三环北路东方路1号 Beijing - Chaoyang District - China
BEGIN:VALARM
TRIGGER:-PT48H
REPEAT:4
DURATION:PT30M
ACTION:DISPLAY
END:VALARM
END:VEVENT
END:VCALENDAR