BEGIN:VCALENDAR
VERSION:2.0
PRODID:GlueUp
CALSCALE:GREGORIAN
BEGIN:VTIMEZONE
TZID:UTC
BEGIN:STANDARD
DTSTART:19700101T000000
TZOFFSETFROM:+0000
TZOFFSETTO:+0000
TZNAME:UTC
END:STANDARD
END:VTIMEZONE
BEGIN:VEVENT
TZ:+00
ORGANIZER;CN=Christine Chen:MAILTO:christine.chen@amchamchina.org
UID:46174-1776626680@https://amcham.glueup.cn
DTSTAMP:20260419T192440Z
DTSTART:20250209T230000Z
DTEND:20250210T033000Z
SUMMARY:[Tianjin] Watch Super Bowl LIX Live @ Sydney Road Sports Bar
DESCRIPTION:[Tianjin] Watch Super Bowl LIX Live @ Sydney Road Sports Bar by AmCham China\n\nFeb 10, 2025 (7:00 AM - 11:30 AM)(GMT+8)\n\nFor more information, click here: https://amcham.glueup.cn/my/events/46174
LOCATION:Sydney Road Sports Bar Tianjin - No.18 Zhengzhou Road - Heping District - Tianjin - 天津市和平区郑州道18号 Tianjin - China
BEGIN:VALARM
TRIGGER:-PT48H
REPEAT:4
DURATION:PT30M
ACTION:DISPLAY
END:VALARM
END:VEVENT
END:VCALENDAR