BEGIN:VCALENDAR
VERSION:2.0
PRODID:GlueUp
CALSCALE:GREGORIAN
BEGIN:VTIMEZONE
TZID:UTC
BEGIN:STANDARD
DTSTART:19700101T000000
TZOFFSETFROM:+0000
TZOFFSETTO:+0000
TZNAME:UTC
END:STANDARD
END:VTIMEZONE
BEGIN:VEVENT
TZ:+00
ORGANIZER;CN=Linda Cheng:MAILTO:lcheng@amchamchina.org
UID:36974-1776720707@https://amcham.glueup.cn
DTSTAMP:20260420T213147Z
DTSTART:20220702T090000Z
DTEND:20220702T123000Z
SUMMARY:(Tianjin) Sunset Party--Annual Charity US Independence Day Celebration
DESCRIPTION:(Tianjin) Sunset Party--Annual Charity US Independence Day Celebration by AmCham China\n\nJul 2, 2022 (5:00 PM - 8:30 PM)(GMT+8)\n\nFor more information, click here: https://amcham.glueup.cn/my/events/36974
LOCATION:Terrace, Pizza Bianca - Floor 6 - Riverside 66 - No.166 Xing'an Road - Heping District - Tianjin - 天津市和平区兴安路166号，恒隆广场6层。 Heping District - China
BEGIN:VALARM
TRIGGER:-PT48H
REPEAT:4
DURATION:PT30M
ACTION:DISPLAY
END:VALARM
END:VEVENT
END:VCALENDAR