BEGIN:VCALENDAR
VERSION:2.0
PRODID:GlueUp
CALSCALE:GREGORIAN
BEGIN:VTIMEZONE
TZID:UTC
BEGIN:STANDARD
DTSTART:19700101T000000
TZOFFSETFROM:+0000
TZOFFSETTO:+0000
TZNAME:UTC
END:STANDARD
END:VTIMEZONE
BEGIN:VEVENT
TZ:+00
ORGANIZER;CN=Christine Chen:MAILTO:christine.chen@amchamchina.org
UID:45944-1776640919@https://amcham.glueup.cn
DTSTAMP:20260419T232159Z
DTSTART:20241231T100000Z
DTEND:20241231T130000Z
SUMMARY:[Tianjin] New Year's Eve Mixer: Ringing in 2025 with the Community
DESCRIPTION:[Tianjin] New Year's Eve Mixer: Ringing in 2025 with the Community by AmCham China\n\nDec 31, 2024 (6:00 PM - 9:00 PM)(GMT+8)\n\nFor more information, click here: https://amcham.glueup.cn/my/events/45944
LOCATION:Smoki & Co (Wu Da Dao) - No.83 Chongqing Road - Heping District -  Tianjin - 天津市和平区重庆道83号Smoki & Co Tianjin - China
BEGIN:VALARM
TRIGGER:-PT48H
REPEAT:4
DURATION:PT30M
ACTION:DISPLAY
END:VALARM
END:VEVENT
END:VCALENDAR