BEGIN:VCALENDAR
VERSION:2.0
PRODID:GlueUp
CALSCALE:GREGORIAN
BEGIN:VTIMEZONE
TZID:UTC
BEGIN:STANDARD
DTSTART:19700101T000000
TZOFFSETFROM:+0000
TZOFFSETTO:+0000
TZNAME:UTC
END:STANDARD
END:VTIMEZONE
BEGIN:VEVENT
TZ:+00
ORGANIZER;CN=Christine Chen:MAILTO:christine.chen@amchamchina.org
UID:43862-1776689467@https://amcham.glueup.cn
DTSTAMP:20260420T125107Z
DTSTART:20240517T100000Z
DTEND:20240517T123000Z
SUMMARY:[Tianjin] Member Mixer Hosted by Tianjin Education Committee
DESCRIPTION:[Tianjin] Member Mixer Hosted by Tianjin Education Committee by AmCham China\n\nMay 17, 2024 (6:00 PM - 8:30 PM)(GMT+8)\n\nFor more information, click here: https://amcham.glueup.cn/my/events/43862
LOCATION:SMOKI & CO (Minyuan) - No. 83 Chongqing Ave - Heping District - Tianjin - 天津市和平区重庆道83号 Tianjin - China
BEGIN:VALARM
TRIGGER:-PT48H
REPEAT:4
DURATION:PT30M
ACTION:DISPLAY
END:VALARM
END:VEVENT
END:VCALENDAR