BEGIN:VCALENDAR
VERSION:2.0
PRODID:GlueUp
CALSCALE:GREGORIAN
BEGIN:VTIMEZONE
TZID:UTC
BEGIN:STANDARD
DTSTART:19700101T000000
TZOFFSETFROM:+0000
TZOFFSETTO:+0000
TZNAME:UTC
END:STANDARD
END:VTIMEZONE
BEGIN:VEVENT
TZ:+00
ORGANIZER;CN=Christine Chen:MAILTO:christine.chen@amchamchina.org
UID:44846-1776667217@https://amcham.glueup.cn
DTSTAMP:20260420T064017Z
DTSTART:20240830T100000Z
DTEND:20240830T123000Z
SUMMARY:[Tianjin] Joint Chamber Welcome Back Mixer
DESCRIPTION:[Tianjin] Joint Chamber Welcome Back Mixer by AmCham China\n\nAug 30, 2024 (6:00 PM - 8:30 PM)(GMT+8)\n\nFor more information, click here: https://amcham.glueup.cn/my/events/44846
LOCATION:Shang Bistro, 1 F of Shangri-La Tianjin - No. 328 of Haihe East Road - Dedong District - Tianjin - 天津市河东区海河东路328号 天津香格里拉一层 香记小酒馆 Tianjin - China
BEGIN:VALARM
TRIGGER:-PT48H
REPEAT:4
DURATION:PT30M
ACTION:DISPLAY
END:VALARM
END:VEVENT
END:VCALENDAR