BEGIN:VCALENDAR
VERSION:2.0
PRODID:GlueUp
CALSCALE:GREGORIAN
BEGIN:VTIMEZONE
TZID:UTC
BEGIN:STANDARD
DTSTART:19700101T000000
TZOFFSETFROM:+0000
TZOFFSETTO:+0000
TZNAME:UTC
END:STANDARD
END:VTIMEZONE
BEGIN:VEVENT
TZ:+00
ORGANIZER;CN=Linda Cheng:MAILTO:lcheng@amchamchina.org
UID:41408-1776740295@https://amcham.glueup.cn
DTSTAMP:20260421T025815Z
DTSTART:20230908T100000Z
DTEND:20230908T123000Z
SUMMARY:Tianjin | Joint Chamber Welcome Back Mixer
DESCRIPTION:Tianjin | Joint Chamber Welcome Back Mixer by AmCham China\n\nSep 8, 2023 (6:00 PM - 8:30 PM)(GMT+8)\n\nFor more information, click here: https://amcham.glueup.cn/my/events/41408
LOCATION:Renaissance Tianjin Lakeview Hotel BLD Restaurant Garden 万丽天津宾馆饕廊餐厅户外花园 - No. 16 - Binshui Road 138 - Hexi District - Tianjin - 天津市河西区宾水道16号 Tianjin - China
BEGIN:VALARM
TRIGGER:-PT48H
REPEAT:4
DURATION:PT30M
ACTION:DISPLAY
END:VALARM
END:VEVENT
END:VCALENDAR