BEGIN:VCALENDAR
VERSION:2.0
PRODID:GlueUp
CALSCALE:GREGORIAN
BEGIN:VTIMEZONE
TZID:UTC
BEGIN:STANDARD
DTSTART:19700101T000000
TZOFFSETFROM:+0000
TZOFFSETTO:+0000
TZNAME:UTC
END:STANDARD
END:VTIMEZONE
BEGIN:VEVENT
TZ:+00
ORGANIZER;CN=Christine Chen:MAILTO:christine.chen@amchamchina.org
UID:43488-1776696342@https://amcham.glueup.cn
DTSTAMP:20260420T144542Z
DTSTART:20240414T020000Z
DTEND:20240414T043000Z
SUMMARY:[Tianjin] Historical Cycling Tour – Explore Tianjin’s Old Town
DESCRIPTION:[Tianjin] Historical Cycling Tour – Explore Tianjin’s Old Town by AmCham China\n\nApr 14, 2024 (10:00 AM - 12:30 PM)(GMT+8)\n\nFor more information, click here: https://amcham.glueup.cn/my/events/43488
LOCATION:Meeting Point: Lujiazui Mall - Exit A of Xibeijiao Subway Line 1 - Hongqiao District - 集合地点：天津市红桥区陆家嘴中心（地铁一号线西北角站A出口） Tianjin - China
BEGIN:VALARM
TRIGGER:-PT48H
REPEAT:4
DURATION:PT30M
ACTION:DISPLAY
END:VALARM
END:VEVENT
END:VCALENDAR