BEGIN:VCALENDAR
VERSION:2.0
PRODID:GlueUp
CALSCALE:GREGORIAN
BEGIN:VTIMEZONE
TZID:UTC
BEGIN:STANDARD
DTSTART:19700101T000000
TZOFFSETFROM:+0000
TZOFFSETTO:+0000
TZNAME:UTC
END:STANDARD
END:VTIMEZONE
BEGIN:VEVENT
TZ:+00
ORGANIZER;CN=Christine Chen:MAILTO:christine.chen@amchamchina.org
UID:46411-1776619380@https://amcham.glueup.cn
DTSTAMP:20260419T172300Z
DTSTART:20250315T023000Z
DTEND:20250315T053000Z
SUMMARY:[Tianjin] Green Delights: Cooking Lesson and St. Patrick’s Day Brunch
DESCRIPTION:[Tianjin] Green Delights: Cooking Lesson and St. Patrick’s Day Brunch by 中国美国商会\n\nMar 15, 2025 (10:30 - 13:30)(GMT+8)\n\nFor more information, click here: https://amcham.glueup.cn/my/events/46411
LOCATION:SMOKI & CO (Minyuan) - No. 83 Chongqing Ave - Heping District - Tianjin - 天津市和平区重庆道83号 Tianjin - China
BEGIN:VALARM
TRIGGER:-PT48H
REPEAT:4
DURATION:PT30M
ACTION:DISPLAY
END:VALARM
END:VEVENT
END:VCALENDAR