BEGIN:VCALENDAR
VERSION:2.0
PRODID:GlueUp
CALSCALE:GREGORIAN
BEGIN:VTIMEZONE
TZID:UTC
BEGIN:STANDARD
DTSTART:19700101T000000
TZOFFSETFROM:+0000
TZOFFSETTO:+0000
TZNAME:UTC
END:STANDARD
END:VTIMEZONE
BEGIN:VEVENT
TZ:+00
ORGANIZER;CN=Linda Cheng:MAILTO:lcheng@amchamchina.org
UID:43538-1776696343@https://amcham.glueup.cn
DTSTAMP:20260420T144543Z
DTSTART:20240417T234500Z
DTEND:20240418T040000Z
SUMMARY:[Tianjin, EN&CN] ESG Series: Briefing & Policy Updates on Green Electricity
DESCRIPTION:[Tianjin, EN&CN] ESG Series: Briefing & Policy Updates on Green Electricity by AmCham China\n\nApr 18, 2024 (7:45 AM - 12:00 PM)(GMT+8)\n\nFor more information, click here: https://amcham.glueup.cn/my/events/43538
LOCATION:Jing+Yu meeting room, 3 F of The St. Regis Tianjin - No 158 - Zhang Zi Zhong Road - Heping District - Tianjin - 天津市和平区张自忠路158号 Tianjin - China
BEGIN:VALARM
TRIGGER:-PT48H
REPEAT:4
DURATION:PT30M
ACTION:DISPLAY
END:VALARM
END:VEVENT
END:VCALENDAR