BEGIN:VCALENDAR
VERSION:2.0
PRODID:GlueUp
CALSCALE:GREGORIAN
BEGIN:VTIMEZONE
TZID:UTC
BEGIN:STANDARD
DTSTART:19700101T000000
TZOFFSETFROM:+0000
TZOFFSETTO:+0000
TZNAME:UTC
END:STANDARD
END:VTIMEZONE
BEGIN:VEVENT
TZ:+00
ORGANIZER;CN=Yin Yu:MAILTO:yyu@amchamchina.org
UID:44008-1776858544@https://amcham.glueup.cn
DTSTAMP:20260422T114904Z
DTSTART:20240530T050000Z
DTEND:20240530T073000Z
SUMMARY:[Tianjin, EN] Boeing Tianjin Composites Factory Tour Visit
DESCRIPTION:[Tianjin, EN] Boeing Tianjin Composites Factory Tour Visit by AmCham China\n\nMay 30, 2024 (1:00 PM - 3:30 PM)(GMT+8)\n\nFor more information, click here: https://amcham.glueup.cn/my/events/44008
LOCATION:Boeing Tianjin Composites - 天津市滨海新区河北路4-566号波音复合材料西门 Tianjin - China
BEGIN:VALARM
TRIGGER:-PT48H
REPEAT:4
DURATION:PT30M
ACTION:DISPLAY
END:VALARM
END:VEVENT
END:VCALENDAR