BEGIN:VCALENDAR
VERSION:2.0
PRODID:GlueUp
CALSCALE:GREGORIAN
BEGIN:VTIMEZONE
TZID:UTC
BEGIN:STANDARD
DTSTART:19700101T000000
TZOFFSETFROM:+0000
TZOFFSETTO:+0000
TZNAME:UTC
END:STANDARD
END:VTIMEZONE
BEGIN:VEVENT
TZ:+00
ORGANIZER;CN=Linda Cheng:MAILTO:lcheng@amchamchina.org
UID:47493-1776605887@https://amcham.glueup.cn
DTSTAMP:20260419T133807Z
DTSTART:20250612T053000Z
DTEND:20250612T083000Z
SUMMARY:[Tianjin, CN] Work Safety Policy Briefing & Practical Risk Control Training
DESCRIPTION:[Tianjin, CN] Work Safety Policy Briefing & Practical Risk Control Training by 中国美国商会\n\nJun 12, 2025 (13:30 - 16:30)(GMT+8)\n\nFor more information, click here: https://amcham.glueup.cn/my/events/47493
LOCATION:22F of Chow Tai Fook Finance Center, TEDA - 天津市滨海新区新城西路5号周大福金融中心22层 Tianjin - China
BEGIN:VALARM
TRIGGER:-PT48H
REPEAT:4
DURATION:PT30M
ACTION:DISPLAY
END:VALARM
END:VEVENT
END:VCALENDAR