BEGIN:VCALENDAR
VERSION:2.0
PRODID:GlueUp
CALSCALE:GREGORIAN
BEGIN:VTIMEZONE
TZID:UTC
BEGIN:STANDARD
DTSTART:19700101T000000
TZOFFSETFROM:+0000
TZOFFSETTO:+0000
TZNAME:UTC
END:STANDARD
END:VTIMEZONE
BEGIN:VEVENT
TZ:+00
ORGANIZER;CN=Linda Cheng:MAILTO:lcheng@amchamchina.org
UID:45876-1776640918@https://amcham.glueup.cn
DTSTAMP:20260419T232158Z
DTSTART:20241213T053000Z
DTEND:20241213T093000Z
SUMMARY:[Tianjin, CN] Interpretation on 2024 Finance and Taxation Policies
DESCRIPTION:AmCham China发布活动[Tianjin, CN] Interpretation on 2024 Finance and Taxation Policies\n\n2024年12月13日（下午 1:30 - 下午 5:30）(GMT+8)\n\n更多信息，访问https://amcham.glueup.cn/my/events/45876
LOCATION:新华国金中心23层会议中心 - 中国天津市和平区大沽北路76号
BEGIN:VALARM
TRIGGER:-PT48H
REPEAT:4
DURATION:PT30M
ACTION:DISPLAY
END:VALARM
END:VEVENT
END:VCALENDAR