BEGIN:VCALENDAR
VERSION:2.0
PRODID:GlueUp
CALSCALE:GREGORIAN
BEGIN:VTIMEZONE
TZID:UTC
BEGIN:STANDARD
DTSTART:19700101T000000
TZOFFSETFROM:+0000
TZOFFSETTO:+0000
TZNAME:UTC
END:STANDARD
END:VTIMEZONE
BEGIN:VEVENT
TZ:+00
ORGANIZER;CN=Amanda He:MAILTO:amandahe@amchamchina.org
UID:46949-1776599940@https://amcham.glueup.cn
DTSTAMP:20260419T115900Z
DTSTART:20250523T070000Z
DTEND:20250523T123000Z
SUMMARY:[Tianjin, CN&EN] 2025 Dialogue with Tianjin Municipal People's Government and Reception
DESCRIPTION:[Tianjin, CN&EN] 2025 Dialogue with Tianjin Municipal People's Government and Reception by AmCham China\n\nMay 23, 2025 (3:00 PM - 8:30 PM)(GMT+8)\n\nFor more information, click here: https://amcham.glueup.cn/my/events/46949
LOCATION:The Ritz-Carlton Tianjin - No.176 Dagu North Road - Heping District - Tianjin - 天津市和平区大沽北路167号 Tianjin - China
BEGIN:VALARM
TRIGGER:-PT48H
REPEAT:4
DURATION:PT30M
ACTION:DISPLAY
END:VALARM
END:VEVENT
END:VCALENDAR