BEGIN:VCALENDAR
VERSION:2.0
PRODID:GlueUp
CALSCALE:GREGORIAN
BEGIN:VTIMEZONE
TZID:UTC
BEGIN:STANDARD
DTSTART:19700101T000000
TZOFFSETFROM:+0000
TZOFFSETTO:+0000
TZNAME:UTC
END:STANDARD
END:VTIMEZONE
BEGIN:VEVENT
TZ:+00
ORGANIZER;CN=Ada Yang:MAILTO:ayang@amchamchina.org
UID:42624-1776715129@https://amcham.glueup.cn
DTSTAMP:20260420T195849Z
DTSTART:20240211T230000Z
DTEND:20240212T030000Z
SUMMARY:Super Bowl LVIII Watch Party @ The Local
DESCRIPTION:Super Bowl LVIII Watch Party @ The Local by AmCham China\n\nFeb 12, 2024 (7:00 AM - 11:00 AM)(GMT+8)\n\nFor more information, click here: https://amcham.glueup.cn/my/events/42624
LOCATION:
BEGIN:VALARM
TRIGGER:-PT48H
REPEAT:4
DURATION:PT30M
ACTION:DISPLAY
END:VALARM
END:VEVENT
END:VCALENDAR