BEGIN:VCALENDAR
VERSION:2.0
PRODID:GlueUp
CALSCALE:GREGORIAN
BEGIN:VTIMEZONE
TZID:UTC
BEGIN:STANDARD
DTSTART:19700101T000000
TZOFFSETFROM:+0000
TZOFFSETTO:+0000
TZNAME:UTC
END:STANDARD
END:VTIMEZONE
BEGIN:VEVENT
TZ:+00
ORGANIZER;CN=Tingting Liu:MAILTO:tliu@amchamchina.org
UID:24618-1777052776@https://amcham.glueup.cn
DTSTAMP:20260424T174616Z
DTSTART:20191126T060000Z
DTEND:20191126T080000Z
SUMMARY:[Sold Out]北京市外籍人才出入境政策解读
DESCRIPTION:[Sold Out]北京市外籍人才出入境政策解读 by AmCham China\n\nNov 26, 2019 (2:00 PM - 4:00 PM)(GMT+8)\n\nFor more information, click here: https://amcham.glueup.cn/my/events/24618
LOCATION:WeWork 5C Conference Room - 5F - Gate 5 - Pacific Century Place - 2A Workers' Stadium North Road - Chaoyang District - 朝阳区工体北路甲2号，盈科中心5号门5层WeWork 5C会议室 Beijing - Chaoyang District - China
BEGIN:VALARM
TRIGGER:-PT48H
REPEAT:4
DURATION:PT30M
ACTION:DISPLAY
END:VALARM
END:VEVENT
END:VCALENDAR