BEGIN:VCALENDAR
VERSION:2.0
PRODID:GlueUp
CALSCALE:GREGORIAN
BEGIN:VTIMEZONE
TZID:UTC
BEGIN:STANDARD
DTSTART:19700101T000000
TZOFFSETFROM:+0000
TZOFFSETTO:+0000
TZNAME:UTC
END:STANDARD
END:VTIMEZONE
BEGIN:VEVENT
TZ:+00
ORGANIZER;CN=Ada Yang:MAILTO:ayang@amchamchina.org
UID:41136-1776747146@https://amcham.glueup.cn
DTSTAMP:20260421T045226Z
DTSTART:20230831T100000Z
DTEND:20230831T120000Z
SUMMARY:Sold Out |  Welcome back mixer, Young Professional Committee Happy Hour
DESCRIPTION:Sold Out |  Welcome back mixer, Young Professional Committee Happy Hour by AmCham China\n\nAug 31, 2023 (6:00 PM - 8:00 PM)(GMT+8)\n\nFor more information, click here: https://amcham.glueup.cn/my/events/41136
LOCATION:SOLANA - Chao Yang Gong Yuan Lu 6 Bei Jing Shi - China
BEGIN:VALARM
TRIGGER:-PT48H
REPEAT:4
DURATION:PT30M
ACTION:DISPLAY
END:VALARM
END:VEVENT
END:VCALENDAR