BEGIN:VCALENDAR
VERSION:2.0
PRODID:GlueUp
CALSCALE:GREGORIAN
BEGIN:VTIMEZONE
TZID:UTC
BEGIN:STANDARD
DTSTART:19700101T000000
TZOFFSETFROM:+0000
TZOFFSETTO:+0000
TZNAME:UTC
END:STANDARD
END:VTIMEZONE
BEGIN:VEVENT
TZ:+00
ORGANIZER;CN=Ada Yang:MAILTO:ayang@amchamchina.org
UID:45045-1776667321@https://amcham.glueup.cn
DTSTAMP:20260420T064201Z
DTSTART:20240927T110000Z
DTEND:20240927T130000Z
SUMMARY:[SOLD OUT] The First Trial Pickleball Experience at AmCham China
DESCRIPTION:[SOLD OUT] The First Trial Pickleball Experience at AmCham China by AmCham China\n\nSep 27, 2024 (7:00 PM - 9:00 PM)(GMT+8)\n\nFor more information, click here: https://amcham.glueup.cn/my/events/45045
LOCATION:PadelOne - Universal Creative Park - Jiuxianqiao - Chaoyang District China
BEGIN:VALARM
TRIGGER:-PT48H
REPEAT:4
DURATION:PT30M
ACTION:DISPLAY
END:VALARM
END:VEVENT
END:VCALENDAR