BEGIN:VCALENDAR
VERSION:2.0
PRODID:GlueUp
CALSCALE:GREGORIAN
BEGIN:VTIMEZONE
TZID:UTC
BEGIN:STANDARD
DTSTART:19700101T000000
TZOFFSETFROM:+0000
TZOFFSETTO:+0000
TZNAME:UTC
END:STANDARD
END:VTIMEZONE
BEGIN:VEVENT
TZ:+00
ORGANIZER;CN=Yin Yu:MAILTO:yyu@amchamchina.org
UID:45113-1776661329@https://amcham.glueup.cn
DTSTAMP:20260420T050209Z
DTSTART:20240923T103000Z
DTEND:20240923T123000Z
SUMMARY:[Sold Out] Nat Geo Exhibit & Dinner Dialogue: Women - Born to Shine
DESCRIPTION:[Sold Out] Nat Geo Exhibit & Dinner Dialogue: Women - Born to Shine by AmCham China\n\nSep 23, 2024 (6:30 PM - 8:30 PM)(GMT+8)\n\nFor more information, click here: https://amcham.glueup.cn/my/events/45113
LOCATION:The Box B - 朝阳区朝阳门外大街10号昆泰大厦The Box朝外B座 Beijing - China
BEGIN:VALARM
TRIGGER:-PT48H
REPEAT:4
DURATION:PT30M
ACTION:DISPLAY
END:VALARM
END:VEVENT
END:VCALENDAR