BEGIN:VCALENDAR
VERSION:2.0
PRODID:GlueUp
CALSCALE:GREGORIAN
BEGIN:VTIMEZONE
TZID:UTC
BEGIN:STANDARD
DTSTART:19700101T000000
TZOFFSETFROM:+0000
TZOFFSETTO:+0000
TZNAME:UTC
END:STANDARD
END:VTIMEZONE
BEGIN:VEVENT
TZ:+00
ORGANIZER;CN=Ivy Ma:MAILTO:ima@amchamchina.org
UID:33072-1777056490@https://amcham.glueup.cn
DTSTAMP:20260424T184810Z
DTSTART:20210915T100000Z
DTEND:20210915T123000Z
SUMMARY:【SOLD OUT】Member Mixer Event is Back
DESCRIPTION:【SOLD OUT】Member Mixer Event is Back by 中国美国商会\n\nSep 15, 2021 (18:00 - 20:30)(GMT+8)\n\nFor more information, click here: https://amcham.glueup.cn/my/events/33072
LOCATION:Hilton Beijing Hotel - The Terrace -  6F Executive Tower - 1 Dong Fang Road North Dong Sanhuan Road Beijing - Chaoyang District - China
BEGIN:VALARM
TRIGGER:-PT48H
REPEAT:4
DURATION:PT30M
ACTION:DISPLAY
END:VALARM
END:VEVENT
END:VCALENDAR