BEGIN:VCALENDAR
VERSION:2.0
PRODID:GlueUp
CALSCALE:GREGORIAN
BEGIN:VTIMEZONE
TZID:UTC
BEGIN:STANDARD
DTSTART:19700101T000000
TZOFFSETFROM:+0000
TZOFFSETTO:+0000
TZNAME:UTC
END:STANDARD
END:VTIMEZONE
BEGIN:VEVENT
TZ:+00
ORGANIZER;CN=Wei Wei:MAILTO:wwei@amchamchina.org
UID:46463-1776619377@https://amcham.glueup.cn
DTSTAMP:20260419T172257Z
DTSTART:20250305T060000Z
DTEND:20250305T090000Z
SUMMARY:SOLD OUT [Chengdu, EN] Her Stories: Multidimensionality of Womanhood
DESCRIPTION:SOLD OUT [Chengdu, EN] Her Stories: Multidimensionality of Womanhood by AmCham China\n\nMar 5, 2025 (2:00 PM - 5:00 PM)(GMT+8)\n\nFor more information, click here: https://amcham.glueup.cn/my/events/46463
LOCATION:ICC Club managed by TEC - 5/F - One ICC Office Tower - Dongda Road - Jinjiang District - Chengdu - 成都市锦江区东大路577号ICC环球贸易广场一号办公楼5楼 Chengdu - Sichuan - China
BEGIN:VALARM
TRIGGER:-PT48H
REPEAT:4
DURATION:PT30M
ACTION:DISPLAY
END:VALARM
END:VEVENT
END:VCALENDAR