BEGIN:VCALENDAR
VERSION:2.0
PRODID:GlueUp
CALSCALE:GREGORIAN
BEGIN:VTIMEZONE
TZID:UTC
BEGIN:STANDARD
DTSTART:19700101T000000
TZOFFSETFROM:+0000
TZOFFSETTO:+0000
TZNAME:UTC
END:STANDARD
END:VTIMEZONE
BEGIN:VEVENT
TZ:+00
ORGANIZER;CN=Wei Wei:MAILTO:wwei@amchamchina.org
UID:45650-1776640854@https://amcham.glueup.cn
DTSTAMP:20260419T232054Z
DTSTART:20241207T103000Z
DTEND:20241207T143000Z
SUMMARY:SOLD OUT [Chengdu, EN&CN] 2024 Chengdu Christmas Gala
DESCRIPTION:SOLD OUT [Chengdu, EN&CN] 2024 Chengdu Christmas Gala by AmCham China\n\nDec 7, 2024 (6:30 PM - 10:30 PM)(GMT+8)\n\nFor more information, click here: https://amcham.glueup.cn/my/events/45650
LOCATION:12/F, Palais, Grand Hyatt Chengdu 成都群光君悦酒店 12楼君府厅 - NO. 8 - Chunxi Road South - Jinjiang District - Chengdu - 成都市锦江区春熙路南段8号 Chengdu - Sichuan - China
BEGIN:VALARM
TRIGGER:-PT48H
REPEAT:4
DURATION:PT30M
ACTION:DISPLAY
END:VALARM
END:VEVENT
END:VCALENDAR