BEGIN:VCALENDAR
VERSION:2.0
PRODID:GlueUp
CALSCALE:GREGORIAN
BEGIN:VTIMEZONE
TZID:UTC
BEGIN:STANDARD
DTSTART:19700101T000000
TZOFFSETFROM:+0000
TZOFFSETTO:+0000
TZNAME:UTC
END:STANDARD
END:VTIMEZONE
BEGIN:VEVENT
TZ:+00
ORGANIZER;CN=AmCham China:MAILTO:amcham@amchamchina.org
UID:41264-1776746525@https://amcham.glueup.cn
DTSTAMP:20260421T044205Z
DTSTART:20230818T063000Z
DTEND:20230818T080000Z
SUMMARY:[Sold Out] CGAC Event (CN) | Offline Discussion on US-China Relations
DESCRIPTION:[Sold Out] CGAC Event (CN) | Offline Discussion on US-China Relations by AmCham China\n\nAug 18, 2023 (2:30 PM - 4:00 PM)(GMT+8)\n\nFor more information, click here: https://amcham.glueup.cn/my/events/41264
LOCATION:WeWork Mandela Room - 5F - Gate 5 - Pacific Century Place - 2A Workers' Stadium North Road - Chaoyang District - 朝阳区工体北路甲2号，盈科中心5号门5层WeWork 曼德拉会议室 Beijing - Chaoyang District - China
BEGIN:VALARM
TRIGGER:-PT48H
REPEAT:4
DURATION:PT30M
ACTION:DISPLAY
END:VALARM
END:VEVENT
END:VCALENDAR