BEGIN:VCALENDAR
VERSION:2.0
PRODID:GlueUp
CALSCALE:GREGORIAN
BEGIN:VTIMEZONE
TZID:UTC
BEGIN:STANDARD
DTSTART:19700101T000000
TZOFFSETFROM:+0000
TZOFFSETTO:+0000
TZNAME:UTC
END:STANDARD
END:VTIMEZONE
BEGIN:VEVENT
TZ:+00
ORGANIZER;CN=Yoyo Wu:MAILTO:ywu@amchamchina.org
UID:45664-1776640759@https://amcham.glueup.cn
DTSTAMP:20260419T231919Z
DTSTART:20241203T093000Z
DTEND:20241203T123000Z
SUMMARY:【SOLD OUT】43rd AmCham China Annual General Meeting & Dinner Banquet
DESCRIPTION:【SOLD OUT】43rd AmCham China Annual General Meeting & Dinner Banquet by AmCham China\n\nDec 3, 2024 (5:30 PM - 8:30 PM)(GMT+8)\n\nFor more information, click here: https://amcham.glueup.cn/my/events/45664
LOCATION:Grand Hyatt Beijing 北京东方君悦大酒店 - Grand Ballroom - LG floor - 1 East Chang An Avenue - Beijing -  China - 100738 -  - LG层君悦宴会厅 - 北京市东长安街1号东方广场 Beijing - China
BEGIN:VALARM
TRIGGER:-PT48H
REPEAT:4
DURATION:PT30M
ACTION:DISPLAY
END:VALARM
END:VEVENT
END:VCALENDAR