BEGIN:VCALENDAR
VERSION:2.0
PRODID:GlueUp
CALSCALE:GREGORIAN
BEGIN:VTIMEZONE
TZID:UTC
BEGIN:STANDARD
DTSTART:19700101T000000
TZOFFSETFROM:+0000
TZOFFSETTO:+0000
TZNAME:UTC
END:STANDARD
END:VTIMEZONE
BEGIN:VEVENT
TZ:+00
ORGANIZER;CN=Tingting Liu:MAILTO:tliu@amchamchina.org
UID:29236-1776654825@https://amcham.glueup.cn
DTSTAMP:20260420T031345Z
DTSTART:20201119T100000Z
DTEND:20201119T130000Z
SUMMARY:[Sold out] 39th AmCham China Annual General Meeting & Dinner Banquet
DESCRIPTION:[Sold out] 39th AmCham China Annual General Meeting & Dinner Banquet by AmCham China\n\nNov 19, 2020 (6:00 PM - 9:00 PM)(GMT+8)\n\nFor more information, click here: https://amcham.glueup.cn/my/events/29236
LOCATION:Grand Ball Room, China World Hotel 中国大饭店 - 1 Jianguomen Wai Avenue - 北京市朝阳区建国门外大街1号 Beijing - Chaoyang District - China
BEGIN:VALARM
TRIGGER:-PT48H
REPEAT:4
DURATION:PT30M
ACTION:DISPLAY
END:VALARM
END:VEVENT
END:VCALENDAR