BEGIN:VCALENDAR
VERSION:2.0
PRODID:GlueUp
CALSCALE:GREGORIAN
BEGIN:VTIMEZONE
TZID:UTC
BEGIN:STANDARD
DTSTART:19700101T000000
TZOFFSETFROM:+0000
TZOFFSETTO:+0000
TZNAME:UTC
END:STANDARD
END:VTIMEZONE
BEGIN:VEVENT
TZ:+00
ORGANIZER;CN=Tingting Liu:MAILTO:tliu@amchamchina.org
UID:24597-1776958920@https://amcham.glueup.cn
DTSTAMP:20260423T154200Z
DTSTART:20191121T100000Z
DTEND:20191121T130000Z
SUMMARY:[Sold Out] 38th AmCham China Annual General Meeting and Thanksgiving Dinner
DESCRIPTION:[Sold Out] 38th AmCham China Annual General Meeting and Thanksgiving Dinner by AmCham China\n\nNov 21, 2019 (6:00 PM - 9:00 PM)(GMT+8)\n\nFor more information, click here: https://amcham.glueup.cn/my/events/24597
LOCATION:St. Regis Beijing Hotel, Ball Room - 21 Jianguomen Wai Avenue - 北京市朝阳区建国门外大街21号 Beijing - Chaoyang District - China
BEGIN:VALARM
TRIGGER:-PT48H
REPEAT:4
DURATION:PT30M
ACTION:DISPLAY
END:VALARM
END:VEVENT
END:VCALENDAR